BEGIN:VCALENDAR
VERSION:2.0
PRODID:-//day dreamers skateboards - ECPv6.15.20//NONSGML v1.0//EN
CALSCALE:GREGORIAN
METHOD:PUBLISH
X-WR-CALNAME:day dreamers skateboards
X-ORIGINAL-URL:https://daydreamersskateboards.com
X-WR-CALDESC:Events for day dreamers skateboards
REFRESH-INTERVAL;VALUE=DURATION:PT1H
X-Robots-Tag:noindex
X-PUBLISHED-TTL:PT1H
BEGIN:VTIMEZONE
TZID:UTC
BEGIN:STANDARD
TZOFFSETFROM:+0000
TZOFFSETTO:+0000
TZNAME:UTC
DTSTART:20230101T000000
END:STANDARD
END:VTIMEZONE
BEGIN:VEVENT
DTSTART;TZID=UTC:20250913T140000
DTEND;TZID=UTC:20250913T190000
DTSTAMP:20260424T022531
CREATED:20250811T163635Z
LAST-MODIFIED:20250903T170240Z
UID:1926-1757772000-1757790000@daydreamersskateboards.com
SUMMARY:Tanner Jam 2025
DESCRIPTION:Tanner Skatepark has been a staple of the Long Island community since 2004\, hosting the biggest skateboarding contest on Long Island every September for the past 19 years. \nAs we approach the parks 20th anniversary\, we’re excited to take this all-ages event to the next level\, bringing even more energy\, excitement\, and community spirit. \nA free to enter contest with tons of giveaways & prizes! \nCome down and skate or just show your support for the local skate scene!
URL:https://daydreamersskateboards.com/event/tanner-jam-2025/
LOCATION:Tanner Park Skatepark\, 400 Baylawn Ave\, Copiague\, NY\, 11726\, United States
ATTACH;FMTTYPE=image/jpeg:https://daydreamersskateboards.com/wp-content/uploads/2025/08/TANNER-FLYER-FINAL_small.jpg
END:VEVENT
BEGIN:VEVENT
DTSTART;TZID=UTC:20250621T000000
DTEND;TZID=UTC:20250621T235959
DTSTAMP:20260424T022531
CREATED:20250522T173945Z
LAST-MODIFIED:20250522T173945Z
UID:1676-1750464000-1750550399@daydreamersskateboards.com
SUMMARY:Go Skateboarding Day!
DESCRIPTION:Get outside and ride your skateboard!
URL:https://daydreamersskateboards.com/event/go-skateboarding-day-2/
LOCATION:NY
END:VEVENT
BEGIN:VEVENT
DTSTART;TZID=UTC:20250607T110000
DTEND;TZID=UTC:20250607T180000
DTSTAMP:20260424T022531
CREATED:20250522T141745Z
LAST-MODIFIED:20250522T141745Z
UID:1661-1749294000-1749319200@daydreamersskateboards.com
SUMMARY:Battle at Brentwood Skate Contest
DESCRIPTION:Limitless Culture Presents the “Battle at Brentwood” \nSupport Long Island skateboarding! \nCome hang with whole family and enjoy an epic day of skateboarding\, good vibes\, giveaways\, free drinks\, food and more! \nFeaturing  @chad_caruso as a special guest judge alongside @jacobharris1 & @andrewhgelles and @inthecutts on Mic keeping the vibes high as the MC. \nWe got @techpatny spinning tunes as always and we’ll also have a ton of raffle giveaways throughout the whole event. \nOnly $20 to signup! All money goes towards the prize purse and future events. \nSchedule\n11:00am – Signups Start\n12:00pm – Women’s Contest\n1:00pm – 13 & Under Contest\n2:00pm – Men’s Contest (14 & Up)\n4:00pm – Best Trick
URL:https://daydreamersskateboards.com/event/battle-at-brentwood-skate-contest/
LOCATION:Brentwood Skatepark\, 400 Broadway\, Brentwood\, NY\, 11717\, United States
ATTACH;FMTTYPE=image/png:https://daydreamersskateboards.com/wp-content/uploads/2025/05/battleatbrentwood.png
END:VEVENT
BEGIN:VEVENT
DTSTART;TZID=UTC:20241230T170000
DTEND;TZID=UTC:20241230T230000
DTSTAMP:20260424T022531
CREATED:20241206T160210Z
LAST-MODIFIED:20241206T160210Z
UID:1352-1735578000-1735599600@daydreamersskateboards.com
SUMMARY:A Night for Skateboarding
DESCRIPTION:Come one\, come all!! It’s a party to start your party!! Monday\, December 30th the Long Island skateboarding community is back at @bluepointbrewpub for a special end of year gathering to help raise money for the @wesleydeanackleyskatepark \nThe night will be filled with music by the incredibly talented and gifted @thewillofmichaelangelo of @limitlesscultureny and DJ @techpatny . MC’d and hosted by the one and only\, @binnyboomboom of @radboardsportco . Video edit premieres by\, @betfamfax \, @__jg \, @bestlifeeverinc_ @eyewantitall24 @techpatny and @novaworldorder. Custom 1of1 skate decks from @skilled_inks @_rich_b @4star @mementoglass @fitzizm and @theronz !!!!!! \nThere will be a bunch of other prizes from the sponsors and plenty of more surprises to come! So please\, save the date and come on down to celebrate life with so many great individuals from the skate community and beyond!! \nLife is Short. Live it Well. Best Life Ever. Hope to see you there.
URL:https://daydreamersskateboards.com/event/a-night-for-skateboarding/
LOCATION:Blue Point Brewpub\, 225 West Main St\, Patchogue\, NY\, 11772\, United States
ATTACH;FMTTYPE=image/png:https://daydreamersskateboards.com/wp-content/uploads/2024/12/a_night_for_skateboarding.png
END:VEVENT
BEGIN:VEVENT
DTSTART;TZID=UTC:20241005T123000
DTEND;TZID=UTC:20241005T170000
DTSTAMP:20260424T022531
CREATED:20241003T163441Z
LAST-MODIFIED:20241003T173710Z
UID:999-1728131400-1728147600@daydreamersskateboards.com
SUMMARY:SK8TOBER Pop Up Event
DESCRIPTION:You don’t want to miss out this Saturday\, October 5th\, from 12-5 PM! 🛹 We’ve got: \nAn epic skate contest hosted by @howtoskateboards 🏆\n5 live music performances 🎶\nDelicious eats from @nakedburgerli 🍔\n@dragonwagonbooks popping up from 12-3 📚\n@MojoStudioArt bringing the creativity 🎨\n@miniloke77_ supporting our Embrace Life Substance Abuse Awareness Campaign 💙\nPlus\, grab some merch from Greenport Skate Park Inc. to help raise funds for the park! See you there for all the fun! 🎉
URL:https://daydreamersskateboards.com/event/sk8tober-pop-up-event/
LOCATION:Greenport Skatepark\, 170 Moores Ln\, Greenport\, NY\, 11944\, United States
ATTACH;FMTTYPE=image/png:https://daydreamersskateboards.com/wp-content/uploads/2024/10/SK8TOBER.png
END:VEVENT
BEGIN:VEVENT
DTSTART;TZID=UTC:20240914T110000
DTEND;TZID=UTC:20240914T190000
DTSTAMP:20260424T022531
CREATED:20240906T173145Z
LAST-MODIFIED:20240906T173505Z
UID:872-1726311600-1726340400@daydreamersskateboards.com
SUMMARY:Tanner Jam 2024
DESCRIPTION:Tanner Jam\, Long Island’s longest running skate contest is back at Tanner Park on Saturday September 14th 2024 \nA free to enter contest with tons of giveaways & prizes including an all expenses paid “golden ticket” to next year’s @jackalopefest  contest!! \nCome down and skate or just show your support for the local skate scene!
URL:https://daydreamersskateboards.com/event/tanner-jam-2024/
LOCATION:Tanner Park Skatepark\, 400 Baylawn Ave\, Copiague\, NY\, 11726\, United States
ATTACH;FMTTYPE=image/png:https://daydreamersskateboards.com/wp-content/uploads/2024/09/tanner-jam.png
END:VEVENT
BEGIN:VEVENT
DTSTART;TZID=UTC:20240831T110000
DTEND;TZID=UTC:20240831T180000
DTSTAMP:20260424T022531
CREATED:20240823T130935Z
LAST-MODIFIED:20240823T132102Z
UID:853-1725102000-1725127200@daydreamersskateboards.com
SUMMARY:Montauk Skate Contest
DESCRIPTION:Limitless Culture presents the 4th Annual Montauk Skate Contest \nAn all day skate contest with divisions for children\, teens and adults. Contest winners receive cash prizes! \nCome skate or just support the contestants and hang. Food and drinks available. \nGood vibes\, great people and even greater times!
URL:https://daydreamersskateboards.com/event/montauk-skate-contest/
LOCATION:Montauk Skatepark\, 101 South Essex St\, Montauk\, NY\, 11954\, United States
END:VEVENT
BEGIN:VEVENT
DTSTART;TZID=UTC:20240802T180000
DTEND;TZID=UTC:20240802T234500
DTSTAMP:20260424T022531
CREATED:20240802T161113Z
LAST-MODIFIED:20240802T161113Z
UID:474-1722621600-1722642300@daydreamersskateboards.com
SUMMARY:A Summer Night for Skateboarding
DESCRIPTION:BLE presents A Summer Night for Skateboarding \nA fundraising event to benefit the Wes Ackley Dean Skatepark. \nVideo Premiers and Live Music!
URL:https://daydreamersskateboards.com/event/a-summer-night-for-skateboarding/
LOCATION:Blue Point Brewpub\, 225 West Main St\, Patchogue\, NY\, 11772\, United States
END:VEVENT
BEGIN:VEVENT
DTSTART;TZID=UTC:20240714T000000
DTEND;TZID=UTC:20240714T235959
DTSTAMP:20260424T022531
CREATED:20240802T161910Z
LAST-MODIFIED:20240802T161910Z
UID:478-1720915200-1721001599@daydreamersskateboards.com
SUMMARY:Sound & Skate Festival 2024
DESCRIPTION:Limitless Culture ​presents Sound & Skate Festival 2024 \nAn all-day event highlighting the skateboarding community; featuring live music\, art exhibition and a skateboarding contest. \nLearn more at www.greenportskatepark.org
URL:https://daydreamersskateboards.com/event/sound-skate-festival-2024/
LOCATION:Greenport Skatepark\, 170 Moores Ln\, Greenport\, NY\, 11944\, United States
END:VEVENT
BEGIN:VEVENT
DTSTART;TZID=UTC:20240621T000000
DTEND;TZID=UTC:20240621T235959
DTSTAMP:20260424T022531
CREATED:20240802T162051Z
LAST-MODIFIED:20240802T162051Z
UID:482-1718928000-1719014399@daydreamersskateboards.com
SUMMARY:Go Skateboarding Day!
DESCRIPTION:Get outside and ride your skateboard!
URL:https://daydreamersskateboards.com/event/go-skateboarding-day/
LOCATION:NY
END:VEVENT
BEGIN:VEVENT
DTSTART;TZID=UTC:20240504T140000
DTEND;TZID=UTC:20240504T180000
DTSTAMP:20260424T022531
CREATED:20240802T162518Z
LAST-MODIFIED:20240802T162518Z
UID:486-1714831200-1714845600@daydreamersskateboards.com
SUMMARY:Board Dont Lie II
DESCRIPTION:A pop-up event featuring a tournament style Game of SKATE and best trick competition. \nLearn more at www.limitlessculturex.com
URL:https://daydreamersskateboards.com/event/board-dont-lie-ii/
LOCATION:Looney Tunes Records\, 31 Brookvale Ave\, West Babylon\, NY\, 11704\, United States
END:VEVENT
BEGIN:VEVENT
DTSTART;TZID=UTC:20240410T000000
DTEND;TZID=UTC:20240510T235900
DTSTAMP:20260424T022531
CREATED:20240802T162905Z
LAST-MODIFIED:20240802T162905Z
UID:489-1712707200-1715385540@daydreamersskateboards.com
SUMMARY:Capture the Flag
DESCRIPTION:Capture the Flag is a best clip contest\, free to enter for skateboarders only. \nAll clips must be filmed at Brentwood Skatepark. \nTo enter go follow BLE on instagram and check out the rules on their corresponding post.
URL:https://daydreamersskateboards.com/event/capture-the-flag/
LOCATION:Brentwood Skatepark\, 400 Broadway\, Brentwood\, NY\, 11717\, United States
END:VEVENT
END:VCALENDAR